BEGIN:VCALENDAR
VERSION:2.0
PRODID:-//ECI Regional Planning District (ECIRPD) - ECPv6.15.20//NONSGML v1.0//EN
CALSCALE:GREGORIAN
METHOD:PUBLISH
X-WR-CALNAME:ECI Regional Planning District (ECIRPD)
X-ORIGINAL-URL:https://ecirpd.org
X-WR-CALDESC:Events for ECI Regional Planning District (ECIRPD)
REFRESH-INTERVAL;VALUE=DURATION:PT1H
X-Robots-Tag:noindex
X-PUBLISHED-TTL:PT1H
BEGIN:VTIMEZONE
TZID:America/Indiana/Indianapolis
BEGIN:DAYLIGHT
TZOFFSETFROM:-0500
TZOFFSETTO:-0400
TZNAME:EDT
DTSTART:20230312T070000
END:DAYLIGHT
BEGIN:STANDARD
TZOFFSETFROM:-0400
TZOFFSETTO:-0500
TZNAME:EST
DTSTART:20231105T060000
END:STANDARD
BEGIN:DAYLIGHT
TZOFFSETFROM:-0500
TZOFFSETTO:-0400
TZNAME:EDT
DTSTART:20240310T070000
END:DAYLIGHT
BEGIN:STANDARD
TZOFFSETFROM:-0400
TZOFFSETTO:-0500
TZNAME:EST
DTSTART:20241103T060000
END:STANDARD
BEGIN:DAYLIGHT
TZOFFSETFROM:-0500
TZOFFSETTO:-0400
TZNAME:EDT
DTSTART:20250309T070000
END:DAYLIGHT
BEGIN:STANDARD
TZOFFSETFROM:-0400
TZOFFSETTO:-0500
TZNAME:EST
DTSTART:20251102T060000
END:STANDARD
BEGIN:DAYLIGHT
TZOFFSETFROM:-0500
TZOFFSETTO:-0400
TZNAME:EDT
DTSTART:20260308T070000
END:DAYLIGHT
BEGIN:STANDARD
TZOFFSETFROM:-0400
TZOFFSETTO:-0500
TZNAME:EST
DTSTART:20261101T060000
END:STANDARD
BEGIN:DAYLIGHT
TZOFFSETFROM:-0500
TZOFFSETTO:-0400
TZNAME:EDT
DTSTART:20270314T070000
END:DAYLIGHT
BEGIN:STANDARD
TZOFFSETFROM:-0400
TZOFFSETTO:-0500
TZNAME:EST
DTSTART:20271107T060000
END:STANDARD
END:VTIMEZONE
BEGIN:VEVENT
DTSTART;TZID=America/Indiana/Indianapolis:20260212T080000
DTEND;TZID=America/Indiana/Indianapolis:20260212T160000
DTSTAMP:20260424T142721
CREATED:20251024T180358Z
LAST-MODIFIED:20260105T190931Z
UID:10898-1770883200-1770912000@ecirpd.org
SUMMARY:ECIRPD Building Blocks to Grant Writing Workshop (Day 2)
DESCRIPTION:Jan. 13th & Feb. 12th\, 2026 | 8 am – 4 pm (Lunch Will Be Provided)\nThe East Central Indiana Regional Planning District (ECIRPD) is hosting a two-day Building Blocks to Grant Writing Workshop on January 13th and February 12th\, 2026\, at the Innovation Connector (1208 W. White River Blvd.\, Muncie\, IN 47303). This workshop is designed to help participants gain the knowledge and skills needed to pursue funding opportunities with confidence. \nThis workshop is open to individuals\, municipalities\, new hires\, local leaders\, and organizations across East Central Indiana. Participants will learn practical strategies to draft\, write\, and manage strong grant proposals that align with funder requirements. \nBy the end of the workshop\, attendees will have a clearer understanding of the grant writing process\, best practices\, and actionable steps to support their communities and organizations. \nThe cost of the workshop is $225 (covers both days) \nRegister HERE
URL:https://ecirpd.org/event/ecirpd-building-blocks-to-grant-writing-workshop-day-2/
LOCATION:Innovation Connector\, 1208 W. White River Blvd.\, Muncie\, IN\, 47303\, United States
ATTACH;FMTTYPE=image/png:https://ecirpd.org/wp-content/uploads/2025/10/Screen-Shot-2025-10-24-at-1.41.18-PM-scaled.png
END:VEVENT
BEGIN:VEVENT
DTSTART;TZID=America/Indiana/Indianapolis:20260210T150000
DTEND;TZID=America/Indiana/Indianapolis:20260210T160000
DTSTAMP:20260424T142721
CREATED:20260126T143254Z
LAST-MODIFIED:20260126T143254Z
UID:11069-1770735600-1770739200@ecirpd.org
SUMMARY:First Quarterly Board Meeting 2026
DESCRIPTION:Executive Board Meeting @ 2:45 pm\nFull Board Meeting @ 3:00 pm
URL:https://ecirpd.org/event/first-quarterly-board-meeting-2026/
END:VEVENT
BEGIN:VEVENT
DTSTART;TZID=America/Indiana/Indianapolis:20260113T080000
DTEND;TZID=America/Indiana/Indianapolis:20260113T160000
DTSTAMP:20260424T142721
CREATED:20251024T175943Z
LAST-MODIFIED:20251024T180543Z
UID:10895-1768291200-1768320000@ecirpd.org
SUMMARY:ECIRPD Building Blocks to Grant Writing Workshop (Day 1)
DESCRIPTION:Jan. 13 & Feb. 3rd\, 2026 | 8 am – 4 pm (Lunch Will Be Provided)\nThe East Central Indiana Regional Planning District (ECIRPD) is hosting a two-day Building Blocks to Grant Writing Workshop on January 13th and February 3rd\, 2026\, at the Innovation Connector (1208 W. White River Blvd.\, Muncie\, IN 47303). This workshop is designed to help participants gain the knowledge and skills needed to pursue funding opportunities with confidence. \nThis workshop is open to individuals\, municipalities\, new hires\, local leaders\, and organizations across East Central Indiana. Participants will learn practical strategies to draft\, write\, and manage strong grant proposals that align with funder requirements. \nBy the end of the workshop\, attendees will have a clearer understanding of the grant writing process\, best practices\, and actionable steps to support their communities and organizations. \nThe cost of the workshop is $225 (covers both days) \nRegister HERE
URL:https://ecirpd.org/event/ecirpd-building-blocks-to-grant-writing-workshop/
LOCATION:Innovation Connector\, 1208 W. White River Blvd.\, Muncie\, IN\, 47303\, United States
ATTACH;FMTTYPE=image/png:https://ecirpd.org/wp-content/uploads/2025/10/Screen-Shot-2025-10-24-at-1.41.18-PM-scaled.png
END:VEVENT
BEGIN:VEVENT
DTSTART;TZID=America/Indiana/Indianapolis:20251106T150000
DTEND;TZID=America/Indiana/Indianapolis:20251106T160000
DTSTAMP:20260424T142721
CREATED:20240821T191049Z
LAST-MODIFIED:20251103T152307Z
UID:9970-1762441200-1762444800@ecirpd.org
SUMMARY:Fourth Quarterly Board Meeting 2025
DESCRIPTION:
URL:https://ecirpd.org/event/fourth-quarterly-board-meeting-2025/
END:VEVENT
BEGIN:VEVENT
DTSTART;TZID=America/Indiana/Indianapolis:20251025T160000
DTEND;TZID=America/Indiana/Indianapolis:20251025T180000
DTSTAMP:20260424T142721
CREATED:20251007T180117Z
LAST-MODIFIED:20251015T144821Z
UID:10857-1761408000-1761415200@ecirpd.org
SUMMARY:Trunk or Treat
DESCRIPTION:The East Central Indiana Regional Planning District (ECIRPD) invites you to a family-friendly evening of fall fun! Join us on Saturday\, October 25th\, from 4:00 – 6:00 PM at the Innovation Connector (1208 W White River Blvd.\, Muncie\, IN) for our Trunk or Treat Event. \nThis year’s event is made possible through ECIRPD’s collaboration with several local organizations\, all coming together to create a safe and festive experience for kids and families. Bring your costumes\, bring your candy buckets\, and get ready for: \n\nTrunk or Treating with plenty of candy to collect\nBouncy houses for extra fun\nCommunity connection\n\nThis event is free and open to the public. Whether you’re coming for the candy\, the costumes\, or the community spirit\, we look forward to seeing you there. \nRSVP with Anna King-Cross at aking-cross@ecirpd.org
URL:https://ecirpd.org/event/trunk-or-treat/
ATTACH;FMTTYPE=image/png:https://ecirpd.org/wp-content/uploads/2025/09/ECIRPD-Trunk-or-Treat.png
END:VEVENT
BEGIN:VEVENT
DTSTART;VALUE=DATE:20251001
DTEND;VALUE=DATE:20260101
DTSTAMP:20260424T142721
CREATED:20251016T171255Z
LAST-MODIFIED:20251016T171255Z
UID:10871-1759276800-1767225599@ecirpd.org
SUMMARY:ECIRPD Clothing Drive
DESCRIPTION:The ECI Regional Planning District is proud to host a Winter Clothing Drive from October through December 2025\, in partnership with the Muncie Mission. Together\, we’re working to ensure that individuals and families in our community have access to warm\, reliable clothing during the coldest months of the year.\n\n\n\n\nWe are collecting new and gently used coats\, hats\, gloves\, scarves\, sweaters\, and other winter essentials. By donating\, you’ll help provide comfort\, warmth\, and peace of mind to neighbors who may otherwise go without. Donations will be delivered regularly to the Muncie Mission so they can quickly reach those who need them most. \nDonations can be dropped off at the ECIRPD office\, located at 1208 White River Blvd.\, Suite 136. ( ANY WEEKDAY\, 8:00 AM – 4:00 PM )  \nFor more information\, please contact Anna King-Cross at aking-cross@ecirpd.org.
URL:https://ecirpd.org/event/ecirpd-clothing-drive/
LOCATION:Innovation Connector\, 1208 W. White River Blvd.\, Muncie\, IN\, 47303\, United States
ATTACH;FMTTYPE=image/png:https://ecirpd.org/wp-content/uploads/2025/09/Clothing-Drive-Flyer-scaled-e1760634747231.png
END:VEVENT
BEGIN:VEVENT
DTSTART;TZID=America/Indiana/Indianapolis:20250924T150000
DTEND;TZID=America/Indiana/Indianapolis:20250924T170000
DTSTAMP:20260424T142721
CREATED:20250916T123741Z
LAST-MODIFIED:20250916T123755Z
UID:10809-1758726000-1758733200@ecirpd.org
SUMMARY:ECIRPD Financial Literacy Workshop
DESCRIPTION:The East Central Indiana Regional Planning District (ECIRPD) has received a $1\,000 grant from the 3 Rivers Foundation to host quarterly Financial Literacy Workshops. These workshops are designed to provide community members with practical tools and resources to strengthen financial knowledge and decision-making skills. \nThe workshops are free and open to the public. Each session will feature a presentation by Ted Baker\, handouts for participants\, and light refreshments\, including snacks and veggie boards. \nFor More Information: \nContact: \nJacob Thomas\, Grant Administrator \nEmail: jthomas@ecirpd.org | Phone: 765-748-4117
URL:https://ecirpd.org/event/ecirpd-financial-literacy-workshop/
LOCATION:Innovation Connector\, 1208 W. White River Blvd.\, Muncie\, IN\, 47303\, United States
END:VEVENT
BEGIN:VEVENT
DTSTART;TZID=America/Indiana/Indianapolis:20250911T100000
DTEND;TZID=America/Indiana/Indianapolis:20250911T120000
DTSTAMP:20260424T142721
CREATED:20250703T125403Z
LAST-MODIFIED:20250808T200307Z
UID:10654-1757584800-1757592000@ecirpd.org
SUMMARY:BEST Workshop - Balanced Hustle: Wellness Without Sacrificing Success
DESCRIPTION:Explore how entrepreneurs can prioritize health and wellness while building a thriving business. \nRegister HERE
URL:https://ecirpd.org/event/best-workshop-how-to-start-a-side-gig-importance-of-a-credit-score/
LOCATION:West Jay Community Center\, 125 Hoover St.\, Dunkirk\, IN\, 47336\, United States
END:VEVENT
BEGIN:VEVENT
DTSTART;TZID=America/Indiana/Indianapolis:20250812T150000
DTEND;TZID=America/Indiana/Indianapolis:20250812T160000
DTSTAMP:20260424T142721
CREATED:20240821T190950Z
LAST-MODIFIED:20240821T190950Z
UID:9968-1755010800-1755014400@ecirpd.org
SUMMARY:Third Quarterly Board Meeting 2025
DESCRIPTION:
URL:https://ecirpd.org/event/third-quarterly-board-meeting-2025/
END:VEVENT
BEGIN:VEVENT
DTSTART;TZID=America/Indiana/Indianapolis:20250811T100000
DTEND;TZID=America/Indiana/Indianapolis:20250811T120000
DTSTAMP:20260424T142721
CREATED:20250703T125015Z
LAST-MODIFIED:20250723T212152Z
UID:10651-1754906400-1754913600@ecirpd.org
SUMMARY:BEST Workshop: A Godly Guide to Business Practices + Providing Excellent Client Experiences
DESCRIPTION:Learn how to provide excellent client services and experiences\, along with a godly guide to business practices. \nRegister HERE
URL:https://ecirpd.org/event/best-workshop-a-godly-guide-to-business-practices-providing-excellent-client-experiences/
LOCATION:Marion Grant County Chambers of Commerce\, 217 S Adams St.\, Marion\, IN\, 46952\, United States
END:VEVENT
BEGIN:VEVENT
DTSTART;TZID=America/Indiana/Indianapolis:20250804T100000
DTEND;TZID=America/Indiana/Indianapolis:20250804T120000
DTSTAMP:20260424T142721
CREATED:20250703T124248Z
LAST-MODIFIED:20250723T212111Z
UID:10649-1754301600-1754308800@ecirpd.org
SUMMARY:BEST Workshop: Moving the Bottom Line of My Business from Negative to Positive\, Business Health Check
DESCRIPTION:Learn how to run a business health check and take actionable steps to move the bottom line of your business from negative to positive. \nRegister HERE 
URL:https://ecirpd.org/event/best-workshop-moving-the-bottom-line-of-my-business-from-negative-to-positive-business-health-check/
LOCATION:Jay County Public Library\, 315 N Ship St.\, Portland\, IN\, 47371\, United States
END:VEVENT
BEGIN:VEVENT
DTSTART;TZID=America/Indiana/Indianapolis:20250721T100000
DTEND;TZID=America/Indiana/Indianapolis:20250721T120000
DTSTAMP:20260424T142721
CREATED:20250701T142010Z
LAST-MODIFIED:20250701T142133Z
UID:10642-1753092000-1753099200@ecirpd.org
SUMMARY:BEST Workshop: Marketing Strategies & Work/Life Balance Tips for Small Businesses
DESCRIPTION:Small business owners and entrepreneurs—mark your calendars! The next BEST (Business Enterprise Services & Training) Workshop is set for Monday\, July 21st from 10:00 a.m. – 12:00 p.m. at the Community Room at Ivy Tech in Marion (261 Commerce Dr\, Marion\, IN). \nThis FREE workshop will cover smart\, effective marketing strategies to help your business grow—plus practical tips for maintaining a healthy work/life balance. Whether you’re just starting out or looking to sharpen your approach\, this session offers valuable insights you can apply right away. \nPresenter: Ted Baker\, Executive Director & CEO of the Muncie Innovation Connector\, brings years of experience in helping businesses thrive. \nThis event is powered by the ECI Regional Planning District in collaboration with Innovation Connector. \nDetails: \n\nUse the main entrance; the receptionist will direct you to the Community Room. A sign-in sheet will be available upon arrival.\nStay tuned—more BEST Workshops are on the way!\n\nQuestions? Call us at (765) 717-5648.
URL:https://ecirpd.org/event/best-workshop-marketing-strategies-work-life-balance-tips-for-small-businesses/
LOCATION:Ivy Tech Marion\, 261 Commerce Dr.\, Marion\, IN\, 46953\, United States
END:VEVENT
BEGIN:VEVENT
DTSTART;TZID=America/Indiana/Indianapolis:20250714T110000
DTEND;TZID=America/Indiana/Indianapolis:20250714T160000
DTSTAMP:20260424T142721
CREATED:20250701T141607Z
LAST-MODIFIED:20250701T141710Z
UID:10640-1752490800-1752508800@ecirpd.org
SUMMARY:Public Engagement Event
DESCRIPTION:Help Shape Safer Roads in East Central Indiana \nDo you live in Delaware\, Grant\, Jay\, or Blackford County? Your input matters—and we want to hear from you! \nJoin the East Central Indiana Regional Planning District (ECIRPD) on Monday\, July 14th from 11:00 AM to 4:00 PM for a FREE Public Engagement Event focused on improving transportation safety in our region. \nThis open-house-style event is your opportunity to share your experiences\, concerns\, and ideas to help us build safer streets and stronger communities through the Safe Streets and Roads for All (SS4A) initiative\, funded by the Federal Highway Administration. \nWhat to Expect:\nParticipate in a brief survey\nShare your concerns and ideas\nHelp us identify roadway safety priorities in Delaware\, Grant\, Jay\, and Blackford Counties\nGet answers to any questions you may have about ECIRPD’s work \nFollow us on Facebook for updates\nHave questions before the event? Contact us at (765) 717-5648 \nYour voice can help shape the future of transportation in East Central Indiana—see you there!
URL:https://ecirpd.org/event/public-engagement-event/
LOCATION:Innovation Connector\, 1208 W. White River Blvd.\, Muncie\, IN\, 47303\, United States
END:VEVENT
BEGIN:VEVENT
DTSTART;TZID=America/Indiana/Indianapolis:20250710T140000
DTEND;TZID=America/Indiana/Indianapolis:20250710T153000
DTSTAMP:20260424T142721
CREATED:20250211T192547Z
LAST-MODIFIED:20250211T192547Z
UID:10392-1752156000-1752161400@ecirpd.org
SUMMARY:Digital Skills Workshop
DESCRIPTION:
URL:https://ecirpd.org/event/digital-skills-workshop-16/
LOCATION:Eastern Indiana Works\, 4620 W Bethel Ave\, Muncie\, IN\, 47304\, United States
END:VEVENT
BEGIN:VEVENT
DTSTART;TZID=America/Indiana/Indianapolis:20250626T140000
DTEND;TZID=America/Indiana/Indianapolis:20250626T153000
DTSTAMP:20260424T142721
CREATED:20250211T192415Z
LAST-MODIFIED:20250604T131423Z
UID:10390-1750946400-1750951800@ecirpd.org
SUMMARY:Digital Skills Workshop
DESCRIPTION:
URL:https://ecirpd.org/event/digital-skills-workshop-15/
LOCATION:Eastern Indiana Works\, 4620 W Bethel Ave\, Muncie\, IN\, 47304\, United States
END:VEVENT
BEGIN:VEVENT
DTSTART;TZID=America/Indiana/Indianapolis:20250520T150000
DTEND;TZID=America/Indiana/Indianapolis:20250520T160000
DTSTAMP:20260424T142721
CREATED:20240821T190719Z
LAST-MODIFIED:20250429T125801Z
UID:9966-1747753200-1747756800@ecirpd.org
SUMMARY:Second Quarterly Board Meeting 2025
DESCRIPTION:
URL:https://ecirpd.org/event/second-quarterly-board-meeting-2025/
LOCATION:Innovation Connector\, 1208 W. White River Blvd.\, Muncie\, IN\, 47303\, United States
END:VEVENT
BEGIN:VEVENT
DTSTART;TZID=America/Indiana/Indianapolis:20250508T140000
DTEND;TZID=America/Indiana/Indianapolis:20250508T153000
DTSTAMP:20260424T142721
CREATED:20250211T192255Z
LAST-MODIFIED:20250211T192255Z
UID:10386-1746712800-1746718200@ecirpd.org
SUMMARY:Digital Skills Workshop
DESCRIPTION:
URL:https://ecirpd.org/event/digital-skills-workshop-13/
LOCATION:Eastern Indiana Works\, 4620 W Bethel Ave\, Muncie\, IN\, 47304\, United States
END:VEVENT
BEGIN:VEVENT
DTSTART;TZID=America/Indiana/Indianapolis:20250502T100000
DTEND;TZID=America/Indiana/Indianapolis:20250502T110000
DTSTAMP:20260424T142721
CREATED:20250421T142441Z
LAST-MODIFIED:20250421T142441Z
UID:10510-1746180000-1746183600@ecirpd.org
SUMMARY:Jay County Broadband and Digital Opportunities Taskforce Public Meeting
DESCRIPTION:Jay County Broadband and Digital Opportunities Taskforce Public Meeting\nFriday\, May 2nd at 10am\nJohn Jay Center for Learning Room 203\n101 S Meridian St. Portland\, IN 47371\nMeeting to connect and discuss how to close the digital divide by creating an action plan\nRegister by contacting Autumn Marshall\n(513) 615-2480\namarshall@ecirpd.org\nFollow for Facebook updates – @autumn.from.acc
URL:https://ecirpd.org/event/jay-county-broadband-and-digital-opportunities-taskforce-public-meeting/
LOCATION:John Jay Center for Learning\, 101 S Meridian St\, Portland\, IN\, 47371\, United States
END:VEVENT
BEGIN:VEVENT
DTSTART;TZID=America/Indiana/Indianapolis:20250424T140000
DTEND;TZID=America/Indiana/Indianapolis:20250424T153000
DTSTAMP:20260424T142722
CREATED:20250211T192144Z
LAST-MODIFIED:20250211T192144Z
UID:10384-1745503200-1745508600@ecirpd.org
SUMMARY:Digital Skills Workshop
DESCRIPTION:
URL:https://ecirpd.org/event/digital-skills-workshop-12/
LOCATION:Eastern Indiana Works\, 4620 W Bethel Ave\, Muncie\, IN\, 47304\, United States
END:VEVENT
BEGIN:VEVENT
DTSTART;TZID=America/Indiana/Indianapolis:20250410T140000
DTEND;TZID=America/Indiana/Indianapolis:20250410T153000
DTSTAMP:20260424T142722
CREATED:20250211T192036Z
LAST-MODIFIED:20250211T192036Z
UID:10381-1744293600-1744299000@ecirpd.org
SUMMARY:Digital Skills Workshop
DESCRIPTION:
URL:https://ecirpd.org/event/digital-skills-workshop-11/
LOCATION:Eastern Indiana Works\, 4620 W Bethel Ave\, Muncie\, IN\, 47304\, United States
END:VEVENT
BEGIN:VEVENT
DTSTART;TZID=America/Indiana/Indianapolis:20250327T140000
DTEND;TZID=America/Indiana/Indianapolis:20250327T153000
DTSTAMP:20260424T142722
CREATED:20250211T192001Z
LAST-MODIFIED:20250211T192001Z
UID:10379-1743084000-1743089400@ecirpd.org
SUMMARY:Digital Skills Workshop
DESCRIPTION:
URL:https://ecirpd.org/event/digital-skills-workshop-10/
LOCATION:Eastern Indiana Works\, 4620 W Bethel Ave\, Muncie\, IN\, 47304\, United States
END:VEVENT
BEGIN:VEVENT
DTSTART;TZID=America/Indiana/Indianapolis:20250306T140000
DTEND;TZID=America/Indiana/Indianapolis:20250306T153000
DTSTAMP:20260424T142722
CREATED:20250218T174116Z
LAST-MODIFIED:20250218T174116Z
UID:10402-1741269600-1741275000@ecirpd.org
SUMMARY:Digital Skills Workshop
DESCRIPTION:
URL:https://ecirpd.org/event/digital-skills-workshop-17/
LOCATION:Marion Public Library\, 600 S. Washington St.
END:VEVENT
BEGIN:VEVENT
DTSTART;TZID=America/Indiana/Indianapolis:20250227T140000
DTEND;TZID=America/Indiana/Indianapolis:20250227T153000
DTSTAMP:20260424T142722
CREATED:20250211T191914Z
LAST-MODIFIED:20250211T191914Z
UID:10377-1740664800-1740670200@ecirpd.org
SUMMARY:Digital Skills Workshop
DESCRIPTION:
URL:https://ecirpd.org/event/digital-skills-workshop-9/
LOCATION:Eastern Indiana Works\, 4620 W Bethel Ave\, Muncie\, IN\, 47304\, United States
END:VEVENT
BEGIN:VEVENT
DTSTART;TZID=America/Indiana/Indianapolis:20250213T140000
DTEND;TZID=America/Indiana/Indianapolis:20250213T153000
DTSTAMP:20260424T142722
CREATED:20250211T191831Z
LAST-MODIFIED:20250211T191831Z
UID:10375-1739455200-1739460600@ecirpd.org
SUMMARY:Digital Skills Workshop
DESCRIPTION:
URL:https://ecirpd.org/event/digital-skills-workshop-4/
LOCATION:Eastern Indiana Works\, 4620 W Bethel Ave\, Muncie\, IN\, 47304\, United States
END:VEVENT
BEGIN:VEVENT
DTSTART;TZID=America/Indiana/Indianapolis:20250211T150000
DTEND;TZID=America/Indiana/Indianapolis:20250211T160000
DTSTAMP:20260424T142722
CREATED:20240821T190533Z
LAST-MODIFIED:20240821T190622Z
UID:9963-1739286000-1739289600@ecirpd.org
SUMMARY:First Quarterly Board Meeting 2025
DESCRIPTION:
URL:https://ecirpd.org/event/first-board-meeting/
LOCATION:Innovation Connector\, 1208 W. White River Blvd.\, Muncie\, IN\, 47303\, United States
END:VEVENT
BEGIN:VEVENT
DTSTART;TZID=America/Indiana/Indianapolis:20250130T090000
DTEND;TZID=America/Indiana/Indianapolis:20250130T163000
DTSTAMP:20260424T142722
CREATED:20241202T153752Z
LAST-MODIFIED:20241217T172248Z
UID:10309-1738227600-1738254600@ecirpd.org
SUMMARY:Beginner's Guide to Grant Writing
DESCRIPTION:
URL:https://ecirpd.org/event/beginners-guide-to-grant-writing-2/
LOCATION:Academy of Model Aeronautics
END:VEVENT
BEGIN:VEVENT
DTSTART;TZID=America/Indiana/Indianapolis:20250116T090000
DTEND;TZID=America/Indiana/Indianapolis:20250116T163000
DTSTAMP:20260424T142722
CREATED:20241202T152356Z
LAST-MODIFIED:20241202T152356Z
UID:10307-1737018000-1737045000@ecirpd.org
SUMMARY:Beginner's Guide to Grant Writing
DESCRIPTION:
URL:https://ecirpd.org/event/beginners-guide-to-grant-writing/
LOCATION:Innovation Connector\, 1208 W. White River Blvd.\, Muncie\, IN\, 47303\, United States
END:VEVENT
BEGIN:VEVENT
DTSTART;TZID=America/Indiana/Indianapolis:20241212T140000
DTEND;TZID=America/Indiana/Indianapolis:20241212T160000
DTSTAMP:20260424T142722
CREATED:20240411T171051Z
LAST-MODIFIED:20240613T164437Z
UID:9763-1734012000-1734019200@ecirpd.org
SUMMARY:Computer Basics Workshop
DESCRIPTION:
URL:https://ecirpd.org/event/digital-skills-workshop-8/
LOCATION:Eastern Indiana Works\, 4620 W Bethel Ave\, Muncie\, IN\, 47304\, United States
END:VEVENT
BEGIN:VEVENT
DTSTART;TZID=America/Indiana/Indianapolis:20241114T140000
DTEND;TZID=America/Indiana/Indianapolis:20241114T160000
DTSTAMP:20260424T142722
CREATED:20240411T171015Z
LAST-MODIFIED:20240613T164545Z
UID:9761-1731592800-1731600000@ecirpd.org
SUMMARY:Computer Basics Workshop
DESCRIPTION:
URL:https://ecirpd.org/event/digital-skills-workshop-7/
LOCATION:Eastern Indiana Works\, 4620 W Bethel Ave\, Muncie\, IN\, 47304\, United States
END:VEVENT
BEGIN:VEVENT
DTSTART;TZID=America/Indiana/Indianapolis:20241112T150000
DTEND;TZID=America/Indiana/Indianapolis:20241112T160000
DTSTAMP:20260424T142722
CREATED:20231213T165849Z
LAST-MODIFIED:20240116T151323Z
UID:9313-1731423600-1731427200@ecirpd.org
SUMMARY:Fourth Quarterly Meeting 2024
DESCRIPTION:
URL:https://ecirpd.org/event/fourth-quarterly-meeting-2024/
LOCATION:Innovation Connector\, 1208 W. White River Blvd.\, Muncie\, IN\, 47303\, United States
END:VEVENT
END:VCALENDAR