BEGIN:VCALENDAR
VERSION:2.0
PRODID:-//ECI Regional Planning District (ECIRPD) - ECPv6.15.20//NONSGML v1.0//EN
CALSCALE:GREGORIAN
METHOD:PUBLISH
X-WR-CALNAME:ECI Regional Planning District (ECIRPD)
X-ORIGINAL-URL:https://ecirpd.org
X-WR-CALDESC:Events for ECI Regional Planning District (ECIRPD)
REFRESH-INTERVAL;VALUE=DURATION:PT1H
X-Robots-Tag:noindex
X-PUBLISHED-TTL:PT1H
BEGIN:VTIMEZONE
TZID:America/Indiana/Indianapolis
BEGIN:DAYLIGHT
TZOFFSETFROM:-0500
TZOFFSETTO:-0400
TZNAME:EDT
DTSTART:20220313T070000
END:DAYLIGHT
BEGIN:STANDARD
TZOFFSETFROM:-0400
TZOFFSETTO:-0500
TZNAME:EST
DTSTART:20221106T060000
END:STANDARD
BEGIN:DAYLIGHT
TZOFFSETFROM:-0500
TZOFFSETTO:-0400
TZNAME:EDT
DTSTART:20230312T070000
END:DAYLIGHT
BEGIN:STANDARD
TZOFFSETFROM:-0400
TZOFFSETTO:-0500
TZNAME:EST
DTSTART:20231105T060000
END:STANDARD
BEGIN:DAYLIGHT
TZOFFSETFROM:-0500
TZOFFSETTO:-0400
TZNAME:EDT
DTSTART:20240310T070000
END:DAYLIGHT
BEGIN:STANDARD
TZOFFSETFROM:-0400
TZOFFSETTO:-0500
TZNAME:EST
DTSTART:20241103T060000
END:STANDARD
BEGIN:DAYLIGHT
TZOFFSETFROM:-0500
TZOFFSETTO:-0400
TZNAME:EDT
DTSTART:20250309T070000
END:DAYLIGHT
BEGIN:STANDARD
TZOFFSETFROM:-0400
TZOFFSETTO:-0500
TZNAME:EST
DTSTART:20251102T060000
END:STANDARD
END:VTIMEZONE
BEGIN:VEVENT
DTSTART;TZID=America/Indiana/Indianapolis:20240228T173000
DTEND;TZID=America/Indiana/Indianapolis:20240228T190000
DTSTAMP:20260424T212318
CREATED:20240212T170006Z
LAST-MODIFIED:20240212T170006Z
UID:9538-1709141400-1709146800@ecirpd.org
SUMMARY:BEST Workshop | Raising the Bar for Customer Experience
DESCRIPTION:Join us for an exciting event where we’ll dive deep into the world of customer experience! Discover new strategies\, insights\, and tips to enhance your customers’ journey and leave a lasting impression. Network with industry experts\, share ideas and gain practical knowledge to take your business to the next level. Don’t miss this opportunity to learn\, connect\, and elevate your customer experience game. Reserve your spot now!
URL:https://ecirpd.org/event/best-workshop-raising-the-bar-for-customer-experience/
LOCATION:Innovation Connector\, 1208 W. White River Blvd.\, Muncie\, IN\, 47303\, United States
END:VEVENT
BEGIN:VEVENT
DTSTART;TZID=America/Indiana/Indianapolis:20240213T150000
DTEND;TZID=America/Indiana/Indianapolis:20240213T160000
DTSTAMP:20260424T212318
CREATED:20231213T165619Z
LAST-MODIFIED:20231213T165619Z
UID:9307-1707836400-1707840000@ecirpd.org
SUMMARY:First Quarterly Meeting 2024
DESCRIPTION:
URL:https://ecirpd.org/event/first-quarterly-meeting-2024/
LOCATION:Innovation Connector\, 1208 W. White River Blvd.\, Muncie\, IN\, 47303\, United States
END:VEVENT
BEGIN:VEVENT
DTSTART;TZID=America/Indiana/Indianapolis:20240131T173000
DTEND;TZID=America/Indiana/Indianapolis:20240131T190000
DTSTAMP:20260424T212318
CREATED:20240102T190139Z
LAST-MODIFIED:20240105T133147Z
UID:9354-1706722200-1706727600@ecirpd.org
SUMMARY:BEST Workshop: Providing Excellent Client Services
DESCRIPTION:
URL:https://ecirpd.org/event/best-workshop-how-to-create-a-positive-customer-experience/
LOCATION:John Jay Center for Learning\, 101 S Meridian St\, Portland\, IN\, 47371\, United States
END:VEVENT
BEGIN:VEVENT
DTSTART;TZID=America/Indiana/Indianapolis:20240124T173000
DTEND;TZID=America/Indiana/Indianapolis:20240124T190000
DTSTAMP:20260424T212318
CREATED:20240102T185956Z
LAST-MODIFIED:20240105T133112Z
UID:9352-1706117400-1706122800@ecirpd.org
SUMMARY:BEST Workshop: The Loneliness of a Business Owner – Mental Health Awareness
DESCRIPTION:
URL:https://ecirpd.org/event/best-workshop-mental-health-of-business-owners/
LOCATION:John Jay Center for Learning\, 101 S Meridian St\, Portland\, IN\, 47371\, United States
END:VEVENT
BEGIN:VEVENT
DTSTART;TZID=America/Indiana/Indianapolis:20240117T173000
DTEND;TZID=America/Indiana/Indianapolis:20240117T190000
DTSTAMP:20260424T212318
CREATED:20240102T165006Z
LAST-MODIFIED:20240105T133029Z
UID:9340-1705512600-1705518000@ecirpd.org
SUMMARY:BEST Workshop: How to Start a Business While Having a Full-Time Job – the Art of the Side-Hustle
DESCRIPTION:
URL:https://ecirpd.org/event/best-workshop-the-art-of-a-side-gig/
LOCATION:John Jay Center for Learning\, 101 S Meridian St\, Portland\, IN\, 47371\, United States
END:VEVENT
BEGIN:VEVENT
DTSTART;TZID=America/Indiana/Indianapolis:20240111T140000
DTEND;TZID=America/Indiana/Indianapolis:20240111T173000
DTSTAMP:20260424T212318
CREATED:20240102T190717Z
LAST-MODIFIED:20240102T190717Z
UID:9356-1704981600-1704994200@ecirpd.org
SUMMARY:Digital Inclusion Pop-Up Event
DESCRIPTION:Join us at the Hartford City Library for the Digital Inclusion Pop Up Event! Discover your eligibility for the Affordable Connectivity Program (ACP)\, where you could receive up to $30 off your monthly internet service bill or $100 off a device. Our team will provide dedicated assistance to guide you through the application process. \nDon’t have internet access? No worries! We’re here to assist you in applying for the Indiana Connectivity Program (ICP)\, ensuring the state helps you gain reliable internet access. \nIn addition\, learn about Northstar digital literacy resources available for your reference. Don’t miss this opportunity to bridge the digital divide—join us at the library for valuable insights and support!
URL:https://ecirpd.org/event/digital-inclusion-pop-up-event/
LOCATION:Hartford City Public Library\, 314 N High St\, Hartford City\, IN\, 47348\, United States
END:VEVENT
BEGIN:VEVENT
DTSTART;TZID=America/Indiana/Indianapolis:20231120T150000
DTEND;TZID=America/Indiana/Indianapolis:20231120T160000
DTSTAMP:20260424T212318
CREATED:20230206T155447Z
LAST-MODIFIED:20231116T205054Z
UID:8631-1700492400-1700496000@ecirpd.org
SUMMARY:Fourth Quarterly Meeting 2023
DESCRIPTION:
URL:https://ecirpd.org/event/fourth-quarterly-meeting/
LOCATION:Innovation Connector\, 1208 W. White River Blvd.\, Muncie\, IN\, 47303\, United States
END:VEVENT
BEGIN:VEVENT
DTSTART;TZID=America/Indiana/Indianapolis:20230825T110000
DTEND;TZID=America/Indiana/Indianapolis:20230825T160000
DTSTAMP:20260424T212318
CREATED:20230724T185129Z
LAST-MODIFIED:20230724T185129Z
UID:9052-1692961200-1692979200@ecirpd.org
SUMMARY:Back to School Fundraiser at Crestview Golf Club
DESCRIPTION:
URL:https://ecirpd.org/event/back-to-school-fundraiser-at-crestview-golf-club/
LOCATION:Crestview Golf Club\, 3325 S Walnut St\, Muncie\, IN\, United States
ORGANIZER;CN="Bill Walters":MAILTO:BWALTERS@ECIRPD.ORG
END:VEVENT
BEGIN:VEVENT
DTSTART;TZID=America/Indiana/Indianapolis:20230815T150000
DTEND;TZID=America/Indiana/Indianapolis:20230815T160000
DTSTAMP:20260424T212318
CREATED:20230206T155148Z
LAST-MODIFIED:20230206T155148Z
UID:8629-1692111600-1692115200@ecirpd.org
SUMMARY:Third Quarterly Meeting 2023
DESCRIPTION:
URL:https://ecirpd.org/event/third-quarterly-meeting-2023/
LOCATION:Innovation Connector\, 1208 W. White River Blvd.\, Muncie\, IN\, 47303\, United States
END:VEVENT
BEGIN:VEVENT
DTSTART;TZID=America/Indiana/Indianapolis:20230516T150000
DTEND;TZID=America/Indiana/Indianapolis:20230516T160000
DTSTAMP:20260424T212318
CREATED:20230206T155017Z
LAST-MODIFIED:20230206T155017Z
UID:8627-1684249200-1684252800@ecirpd.org
SUMMARY:Second Quarterly Meeting 2023
DESCRIPTION:
URL:https://ecirpd.org/event/second-quarterly-meeting-2023/
LOCATION:Innovation Connector\, 1208 W. White River Blvd.\, Muncie\, IN\, 47303\, United States
END:VEVENT
BEGIN:VEVENT
DTSTART;TZID=America/Indiana/Indianapolis:20230214T150000
DTEND;TZID=America/Indiana/Indianapolis:20230214T160000
DTSTAMP:20260424T212318
CREATED:20230206T154728Z
LAST-MODIFIED:20230206T154728Z
UID:8623-1676386800-1676390400@ecirpd.org
SUMMARY:First Quarterly Board Meeting 2023 
DESCRIPTION:
URL:https://ecirpd.org/event/first-quarterly-board-meeting-2023/
LOCATION:Innovation Connector\, 1208 W. White River Blvd.\, Muncie\, IN\, 47303\, United States
END:VEVENT
END:VCALENDAR