BEGIN:VCALENDAR
VERSION:2.0
PRODID:-//ECI Regional Planning District (ECIRPD) - ECPv6.15.20//NONSGML v1.0//EN
CALSCALE:GREGORIAN
METHOD:PUBLISH
X-ORIGINAL-URL:https://ecirpd.org
X-WR-CALDESC:Events for ECI Regional Planning District (ECIRPD)
REFRESH-INTERVAL;VALUE=DURATION:PT1H
X-Robots-Tag:noindex
X-PUBLISHED-TTL:PT1H
BEGIN:VTIMEZONE
TZID:America/Indiana/Indianapolis
BEGIN:DAYLIGHT
TZOFFSETFROM:-0500
TZOFFSETTO:-0400
TZNAME:EDT
DTSTART:20240310T070000
END:DAYLIGHT
BEGIN:STANDARD
TZOFFSETFROM:-0400
TZOFFSETTO:-0500
TZNAME:EST
DTSTART:20241103T060000
END:STANDARD
BEGIN:DAYLIGHT
TZOFFSETFROM:-0500
TZOFFSETTO:-0400
TZNAME:EDT
DTSTART:20250309T070000
END:DAYLIGHT
BEGIN:STANDARD
TZOFFSETFROM:-0400
TZOFFSETTO:-0500
TZNAME:EST
DTSTART:20251102T060000
END:STANDARD
BEGIN:DAYLIGHT
TZOFFSETFROM:-0500
TZOFFSETTO:-0400
TZNAME:EDT
DTSTART:20260308T070000
END:DAYLIGHT
BEGIN:STANDARD
TZOFFSETFROM:-0400
TZOFFSETTO:-0500
TZNAME:EST
DTSTART:20261101T060000
END:STANDARD
END:VTIMEZONE
BEGIN:VEVENT
DTSTART;TZID=America/Indiana/Indianapolis:20250911T100000
DTEND;TZID=America/Indiana/Indianapolis:20250911T120000
DTSTAMP:20260424T181652
CREATED:20250703T125403Z
LAST-MODIFIED:20250808T200307Z
UID:10654-1757584800-1757592000@ecirpd.org
SUMMARY:BEST Workshop - Balanced Hustle: Wellness Without Sacrificing Success
DESCRIPTION:Explore how entrepreneurs can prioritize health and wellness while building a thriving business. \nRegister HERE
URL:https://ecirpd.org/event/best-workshop-how-to-start-a-side-gig-importance-of-a-credit-score/
LOCATION:West Jay Community Center\, 125 Hoover St.\, Dunkirk\, IN\, 47336\, United States
END:VEVENT
BEGIN:VEVENT
DTSTART;TZID=America/Indiana/Indianapolis:20250924T150000
DTEND;TZID=America/Indiana/Indianapolis:20250924T170000
DTSTAMP:20260424T181652
CREATED:20250916T123741Z
LAST-MODIFIED:20250916T123755Z
UID:10809-1758726000-1758733200@ecirpd.org
SUMMARY:ECIRPD Financial Literacy Workshop
DESCRIPTION:The East Central Indiana Regional Planning District (ECIRPD) has received a $1\,000 grant from the 3 Rivers Foundation to host quarterly Financial Literacy Workshops. These workshops are designed to provide community members with practical tools and resources to strengthen financial knowledge and decision-making skills. \nThe workshops are free and open to the public. Each session will feature a presentation by Ted Baker\, handouts for participants\, and light refreshments\, including snacks and veggie boards. \nFor More Information: \nContact: \nJacob Thomas\, Grant Administrator \nEmail: jthomas@ecirpd.org | Phone: 765-748-4117
URL:https://ecirpd.org/event/ecirpd-financial-literacy-workshop/
LOCATION:Innovation Connector\, 1208 W. White River Blvd.\, Muncie\, IN\, 47303\, United States
END:VEVENT
END:VCALENDAR